BEGIN:VCALENDAR
VERSION:2.0
PRODID:Stage Left Theatre Troupe
CALSCALE:GREGORIAN
BEGIN:VEVENT
DTSTAMP:20200228T091432Z
UID:3c912a8b-5dd5-47ab-b5c8-4f17b99f5dd5
DTSTART:20160204T103000Z
DESCRIPTION:
SUMMARY:Rehearsal - Short Sweet & Petite
URL:http://stageleft.org.au/public/schedule/meetings/Yr4nlOs
END:VEVENT
BEGIN:VEVENT
DTSTAMP:20200228T091432Z
UID:84454688-cee6-4a7d-b30e-81588c477cb3
DTSTART:20150311T113000Z
DESCRIPTION:
SUMMARY:Gaggle Meeting March 2015
URL:http://stageleft.org.au/public/schedule/meetings/O8lHp
END:VEVENT
BEGIN:VEVENT
DTSTAMP:20200228T091432Z
UID:773a0679-632a-48be-8db1-a14d929ca558
DTSTART:20150205T110000Z
DESCRIPTION:
SUMMARY:Gaggle Meeting 15FEB 2015
URL:http://stageleft.org.au/public/schedule/meetings/_49qX
END:VEVENT
BEGIN:VEVENT
DTSTAMP:20200228T091432Z
UID:bfb15e9a-2c37-43e1-8d22-473d53a5e018
DTSTART:20140408T104500Z
DESCRIPTION:
LOCATION:Kev's House
SUMMARY:Gaggle Meeting April 2014
URL:http://stageleft.org.au/public/schedule/meetings/cr05P
END:VEVENT
BEGIN:VEVENT
DTSTAMP:20200228T091432Z
UID:51f72481-1d11-4504-91a6-f43ca1879e20
DTSTART:20140318T114500Z
DESCRIPTION:
SUMMARY:Gaggle Meeting MAR14
URL:http://stageleft.org.au/public/schedule/meetings/hVqHK
END:VEVENT
BEGIN:VEVENT
DTSTAMP:20200228T091432Z
UID:183401c3-c5d2-4120-9485-ab809e23e5b5
DTSTART:20140218T113000Z
DESCRIPTION:
SUMMARY:Gaggle Meeting
URL:http://stageleft.org.au/public/schedule/meetings/X2Y8W
END:VEVENT
BEGIN:VEVENT
DTSTAMP:20200228T091432Z
UID:f94b7c8c-a8b1-4eb2-88cc-01a9117ef361
DTSTART:20140218T113000Z
DESCRIPTION:
SUMMARY:Gaggle Meeting
URL:http://stageleft.org.au/public/schedule/meetings/gWJzg
END:VEVENT
BEGIN:VEVENT
DTSTAMP:20200228T091432Z
UID:a55a0dfe-84fd-412e-a562-50159412c22e
DTSTART:20140124T113000Z
DESCRIPTION:
LOCATION:Stage Left Barracks Theatre
SUMMARY:Stage Left AGM 2014
URL:http://stageleft.org.au/public/schedule/meetings/59KUy
END:VEVENT
BEGIN:VEVENT
DTSTAMP:20200228T091432Z
UID:66107801-59df-4f2f-bf4d-3ce75c9f62c0
DTSTART:20140124T113000Z
DESCRIPTION:
SUMMARY:AGM
URL:http://stageleft.org.au/public/schedule/meetings/HWZJH
END:VEVENT
END:VCALENDAR
